BEGIN:VCALENDAR
VERSION:2.0
PRODID:icalendar-ruby
CALSCALE:GREGORIAN
METHOD:PUBLISH
BEGIN:VEVENT
DTSTAMP:20260424T145831Z
UID:94-411726@stsarkischurch.net
DTSTART:20260706T130000Z
DTEND:20260710T190000Z
CLASS:PUBLIC
CREATED:20260423T193934
DESCRIPTION:\n
LAST-MODIFIED:20260423T193934
LOCATION:
SUMMARY:St. Sarkis Summer Camp
URL;VALUE=URI:https://www.stsarkischurch.net/events/st-sarkis-summer-camp/2
 026-07-06
ATTACH;FILENAME=Untitled-72.png;FMTTYPE=image/png:https://dq5pwpg1q8ru0.clo
 udfront.net/2026/04/23/23/39/00/efb4e9ac-3b74-484f-9dc5-5f3ba12bbf3c/Untit
 led-72.png
END:VEVENT
END:VCALENDAR
