BEGIN:VCALENDAR
VERSION:2.0
PRODID:icalendar-ruby
CALSCALE:GREGORIAN
METHOD:PUBLISH
BEGIN:VEVENT
DTSTAMP:20260422T062701Z
UID:5-408682@stsarkischurch.net
DTSTART:20261011T143000Z
DTEND:20261011T153000Z
CLASS:PUBLIC
CREATED:20260421T211329
DESCRIPTION:Sunday Worship
LAST-MODIFIED:20260421T211329
LOCATION:
SUMMARY:Sunday Worship
URL;VALUE=URI:https://www.stsarkischurch.net/events/sunday-worship/2026-10-
 11
END:VEVENT
END:VCALENDAR
