BEGIN:VCALENDAR
VERSION:2.0
PRODID:icalendar-ruby
CALSCALE:GREGORIAN
METHOD:PUBLISH
BEGIN:VEVENT
DTSTAMP:20260422T113621Z
UID:5-408685@stsarkischurch.net
DTSTART:20261101T153000Z
DTEND:20261101T163000Z
CLASS:PUBLIC
CREATED:20260421T211329
DESCRIPTION:Sunday Worship
LAST-MODIFIED:20260421T211329
LOCATION:
SUMMARY:Sunday Worship
URL;VALUE=URI:https://www.stsarkischurch.net/events/sunday-worship/2026-11-
 01
END:VEVENT
END:VCALENDAR
